Package: FoldGO Version: 1.20.0 Command: /Library/Frameworks/R.framework/Resources/bin/R CMD INSTALL FoldGO StartedAt: 2024-04-16 10:39:51 -0400 (Tue, 16 Apr 2024) EndedAt: 2024-04-16 10:40:22 -0400 (Tue, 16 Apr 2024) EllapsedTime: 30.8 seconds RetCode: 0 Status: OK