Package: FeatSeekR Version: 1.2.0 Maintainer: Tuemay Capraz MaintainerEmail: tuemay.capraz at embl.de git_url: https://git.bioconductor.org/packages/FeatSeekR git_branch: RELEASE_3_18 git_last_commit: 984efc5 git_last_commit_date: 2023-10-24 11:48:46 -0400 (Tue, 24 Oct 2023)