Package: FScanR Version: 1.12.0 Command: rm -rf FScanR.buildbin-libdir && mkdir FScanR.buildbin-libdir && /Users/biocbuild/BBS/utils/build-universal.sh FScanR_1.12.0.tar.gz /Library/Frameworks/R.framework/Resources/bin/R FScanR.buildbin-libdir StartedAt: 2024-04-18 09:20:51 -0400 (Thu, 18 Apr 2024) EndedAt: 2024-04-18 09:20:56 -0400 (Thu, 18 Apr 2024) EllapsedTime: 4.5 seconds RetCode: 0 Status: OK PackageFile: FScanR_1.12.0.tgz PackageFileSize: 942.8 KiB