Package: FELLA Version: 1.22.0 Command: /Library/Frameworks/R.framework/Resources/bin/R CMD INSTALL FELLA StartedAt: 2024-04-16 10:25:53 -0400 (Tue, 16 Apr 2024) EndedAt: 2024-04-16 10:26:13 -0400 (Tue, 16 Apr 2024) EllapsedTime: 20.1 seconds RetCode: 0 Status: OK