Package: FELLA Version: 1.22.0 Command: /Library/Frameworks/R.framework/Resources/bin/R CMD check --install=check:FELLA.install-out.txt --library=/Library/Frameworks/R.framework/Resources/library --no-vignettes --timings FELLA_1.22.0.tar.gz StartedAt: 2024-03-20 13:10:06 -0400 (Wed, 20 Mar 2024) EndedAt: 2024-03-20 13:13:45 -0400 (Wed, 20 Mar 2024) EllapsedTime: 218.6 seconds RetCode: 0 Status: OK CheckDir: FELLA.Rcheck Warnings: 0