Package: FELLA Version: 1.22.0 Command: /Library/Frameworks/R.framework/Resources/bin/R CMD build --keep-empty-dirs --no-resave-data FELLA StartedAt: 2024-04-16 18:06:13 -0400 (Tue, 16 Apr 2024) EndedAt: 2024-04-16 18:46:14 -0400 (Tue, 16 Apr 2024) EllapsedTime: 2401.1 seconds RetCode: None Status: TIMEOUT PackageFile: None PackageFileSize: NA