Package: FELLA Version: 1.22.0 Command: rm -rf FELLA.buildbin-libdir && mkdir FELLA.buildbin-libdir && /Users/biocbuild/BBS/utils/build-universal.sh FELLA_1.22.0.tar.gz /Library/Frameworks/R.framework/Resources/bin/R FELLA.buildbin-libdir StartedAt: 2024-03-21 08:08:10 -0400 (Thu, 21 Mar 2024) EndedAt: 2024-03-21 08:08:35 -0400 (Thu, 21 Mar 2024) EllapsedTime: 25.2 seconds RetCode: 0 Status: OK PackageFile: FELLA_1.22.0.tgz PackageFileSize: 3.928 MiB