Package: ExpressionAtlas Version: 1.30.0 Command: /Library/Frameworks/R.framework/Resources/bin/R CMD build --keep-empty-dirs --no-resave-data ExpressionAtlas StartedAt: 2024-04-16 18:00:30 -0400 (Tue, 16 Apr 2024) EndedAt: 2024-04-16 18:01:09 -0400 (Tue, 16 Apr 2024) EllapsedTime: 38.8 seconds RetCode: 0 Status: OK PackageFile: ExpressionAtlas_1.30.0.tar.gz PackageFileSize: 319.2 KiB