Package: EpiMix Version: 1.4.0 Command: /Library/Frameworks/R.framework/Resources/bin/R CMD build --keep-empty-dirs --no-resave-data EpiMix StartedAt: 2024-04-16 17:46:16 -0400 (Tue, 16 Apr 2024) EndedAt: 2024-04-16 17:54:25 -0400 (Tue, 16 Apr 2024) EllapsedTime: 489.5 seconds RetCode: 0 Status: OK PackageFile: EpiMix_1.4.0.tar.gz PackageFileSize: 2.902 MiB