############################################################################## ############################################################################## ### ### Running command: ### ### /Library/Frameworks/R.framework/Resources/bin/R CMD check --install=check:EpiCompare.install-out.txt --library=/Library/Frameworks/R.framework/Resources/library --no-vignettes --timings EpiCompare_1.6.7.tar.gz ### ############################################################################## ############################################################################## * using log directory ‘/Users/biocbuild/bbs-3.18-bioc-mac-arm64/meat/EpiCompare.Rcheck’ * using R version 4.3.3 (2024-02-29) * using platform: aarch64-apple-darwin20 (64-bit) * R was compiled by Apple clang version 14.0.0 (clang-1400.0.29.202) GNU Fortran (GCC) 12.2.0 * running under: macOS Ventura 13.6.1 * using session charset: UTF-8 * using option ‘--no-vignettes’ * checking for file ‘EpiCompare/DESCRIPTION’ ... OK * checking extension type ... Package * this is package ‘EpiCompare’ version ‘1.6.7’ * package encoding: UTF-8 * checking package namespace information ... OK * checking package dependencies ... OK * checking if this is a source package ... OK * checking if there is a namespace ... OK * checking for hidden files and directories ... OK * checking for portable file names ... OK * checking for sufficient/correct file permissions ... OK * checking whether package ‘EpiCompare’ can be installed ... OK * checking installed package size ... OK * checking package directory ... OK * checking ‘build’ directory ... OK * checking DESCRIPTION meta-information ... OK * checking top-level files ... OK * checking for left-over files ... OK * checking index information ... OK * checking package subdirectories ... OK * checking R files for non-ASCII characters ... OK * checking R files for syntax errors ... OK * checking whether the package can be loaded ... OK * checking whether the package can be loaded with stated dependencies ... OK * checking whether the package can be unloaded cleanly ... OK * checking whether the namespace can be loaded with stated dependencies ... OK * checking whether the namespace can be unloaded cleanly ... OK * checking dependencies in R code ... OK * checking S3 generic/method consistency ... OK * checking replacement functions ... OK * checking foreign function calls ... OK * checking R code for possible problems ... OK * checking Rd files ... OK * checking Rd metadata ... OK * checking Rd cross-references ... OK * checking for missing documentation entries ... OK * checking for code/documentation mismatches ... OK * checking Rd \usage sections ... OK * checking Rd contents ... OK * checking for unstated dependencies in examples ... OK * checking contents of ‘data’ directory ... OK * checking data for non-ASCII characters ... OK * checking data for ASCII and uncompressed saves ... OK * checking files in ‘vignettes’ ... OK * checking examples ... OK Examples with CPU (user + system) or elapsed time > 5s user system elapsed plot_enrichment 50.817 3.349 61.543 plot_ChIPseeker_annotation 25.702 0.864 26.631 predict_precision_recall 13.090 3.961 4.587 EpiCompare 10.218 0.881 11.625 plot_corr 8.364 1.860 8.546 plot_precision_recall 7.457 2.207 5.517 rebin_peaks 4.942 1.783 4.901 liftover_grlist 4.485 0.714 7.037 tss_plot 4.497 0.671 5.182 * checking for unstated dependencies in ‘tests’ ... OK * checking tests ... Running ‘testthat.R’ ERROR Running the tests in ‘tests/testthat.R’ failed. Last 13 lines of output: 33. ├─patchwork (local) FUN(X[[i]], ...) 34. └─patchwork:::plot_table.ggplot(X[[i]], ...) 35. └─ggplot2::ggplotGrob(x) 36. ├─ggplot2::ggplot_gtable(ggplot_build(x)) 37. └─ggplot2:::ggplot_gtable.ggplot_built(ggplot_build(x)) 38. └─ggplot2:::plot_theme(plot) 39. └─ggplot2:::validate_theme(theme) 40. └─base::mapply(...) 41. └─ggplot2 (local) ``(...) 42. └─cli::cli_abort(...) 43. └─rlang::abort(...) [ FAIL 1 | WARN 7 | SKIP 0 | PASS 78 ] Error: Test failures Execution halted * checking for unstated dependencies in vignettes ... OK * checking package vignettes in ‘inst/doc’ ... OK * checking running R code from vignettes ... SKIPPED * checking re-building of vignette outputs ... SKIPPED * checking PDF version of manual ... OK * DONE Status: 1 ERROR See ‘/Users/biocbuild/bbs-3.18-bioc-mac-arm64/meat/EpiCompare.Rcheck/00check.log’ for details.