Package: EnrichmentBrowser Version: 2.32.0 Command: /Library/Frameworks/R.framework/Resources/bin/R CMD build --keep-empty-dirs --no-resave-data EnrichmentBrowser StartedAt: 2024-04-16 17:40:08 -0400 (Tue, 16 Apr 2024) EndedAt: 2024-04-16 17:42:36 -0400 (Tue, 16 Apr 2024) EllapsedTime: 148.2 seconds RetCode: 0 Status: OK PackageFile: EnrichmentBrowser_2.32.0.tar.gz PackageFileSize: 1.661 MiB