Package: EnMCB Version: 1.14.0 Command: rm -rf EnMCB.buildbin-libdir && mkdir EnMCB.buildbin-libdir && /Users/biocbuild/BBS/utils/build-universal.sh EnMCB_1.14.0.tar.gz /Library/Frameworks/R.framework/Resources/bin/R EnMCB.buildbin-libdir StartedAt: 2024-04-18 09:08:34 -0400 (Thu, 18 Apr 2024) EndedAt: 2024-04-18 09:08:53 -0400 (Thu, 18 Apr 2024) EllapsedTime: 18.2 seconds RetCode: 0 Status: OK PackageFile: EnMCB_1.14.0.tgz PackageFileSize: 5.081 MiB