Package: EWCE Version: 1.10.2 Command: /Library/Frameworks/R.framework/Resources/bin/R CMD INSTALL EWCE StartedAt: 2024-04-16 12:55:55 -0400 (Tue, 16 Apr 2024) EndedAt: 2024-04-16 12:56:39 -0400 (Tue, 16 Apr 2024) EllapsedTime: 43.9 seconds RetCode: 0 Status: OK