Package: EWCE Version: 1.10.2 Command: /Library/Frameworks/R.framework/Resources/bin/R CMD build --keep-empty-dirs --no-resave-data EWCE StartedAt: 2024-04-16 17:57:51 -0400 (Tue, 16 Apr 2024) EndedAt: 2024-04-16 18:02:31 -0400 (Tue, 16 Apr 2024) EllapsedTime: 280.1 seconds RetCode: 0 Status: OK PackageFile: EWCE_1.10.2.tar.gz PackageFileSize: 2.435 MiB