Package: EWCE Version: 1.10.2 Command: rm -rf EWCE.buildbin-libdir && mkdir EWCE.buildbin-libdir && /Users/biocbuild/BBS/utils/build-universal.sh EWCE_1.10.2.tar.gz /Library/Frameworks/R.framework/Resources/bin/R EWCE.buildbin-libdir StartedAt: 2024-04-18 09:14:19 -0400 (Thu, 18 Apr 2024) EndedAt: 2024-04-18 09:15:18 -0400 (Thu, 18 Apr 2024) EllapsedTime: 58.2 seconds RetCode: 0 Status: OK PackageFile: EWCE_1.10.2.tgz PackageFileSize: 2.748 MiB