Package: EMDomics Version: 2.32.0 Command: rm -rf EMDomics.buildbin-libdir && mkdir EMDomics.buildbin-libdir && /Users/biocbuild/BBS/utils/build-universal.sh EMDomics_2.32.0.tar.gz /Library/Frameworks/R.framework/Resources/bin/R EMDomics.buildbin-libdir StartedAt: 2024-04-18 09:08:17 -0400 (Thu, 18 Apr 2024) EndedAt: 2024-04-18 09:08:26 -0400 (Thu, 18 Apr 2024) EllapsedTime: 9.1 seconds RetCode: 0 Status: OK PackageFile: EMDomics_2.32.0.tgz PackageFileSize: 420.7 KiB