Package: EGSEA Version: 1.30.1 Command: /Library/Frameworks/R.framework/Resources/bin/R CMD INSTALL EGSEA StartedAt: 2024-04-16 12:24:48 -0400 (Tue, 16 Apr 2024) EndedAt: 2024-04-16 12:25:54 -0400 (Tue, 16 Apr 2024) EllapsedTime: 65.3 seconds RetCode: 0 Status: OK