Package: EGSEA Version: 1.30.1 Command: /Library/Frameworks/R.framework/Resources/bin/R CMD build --keep-empty-dirs --no-resave-data EGSEA StartedAt: 2024-04-16 17:34:51 -0400 (Tue, 16 Apr 2024) EndedAt: 2024-04-16 17:40:45 -0400 (Tue, 16 Apr 2024) EllapsedTime: 353.7 seconds RetCode: 0 Status: OK PackageFile: EGSEA_1.30.1.tar.gz PackageFileSize: 2.09 MiB