############################################################################## ############################################################################## ### ### Running command: ### ### rm -rf EBSeqHMM.buildbin-libdir && mkdir EBSeqHMM.buildbin-libdir && /Users/biocbuild/BBS/utils/build-universal.sh EBSeqHMM_1.35.0.tar.gz /Library/Frameworks/R.framework/Resources/bin/R EBSeqHMM.buildbin-libdir ### ############################################################################## ############################################################################## >>>>>>> >>>>>>> INSTALLATION WITH 'R CMD INSTALL --preclean --no-multiarch --library=EBSeqHMM.buildbin-libdir EBSeqHMM_1.35.0.tar.gz' >>>>>>> ERROR: dependency ‘EBSeq’ is not available for package ‘EBSeqHMM’ * removing ‘/Users/biocbuild/bbs-3.18-bioc-mac-arm64/meat/EBSeqHMM.buildbin-libdir/EBSeqHMM’