Package: EBSeq Version: 2.0.0 Command: /Library/Frameworks/R.framework/Resources/bin/R CMD INSTALL EBSeq StartedAt: 2024-04-16 11:47:30 -0400 (Tue, 16 Apr 2024) EndedAt: 2024-04-16 11:47:59 -0400 (Tue, 16 Apr 2024) EllapsedTime: 28.7 seconds RetCode: 0 Status: OK