Package: DominoEffect Version: 1.22.0 Command: /Library/Frameworks/R.framework/Resources/bin/R CMD check --install=check:DominoEffect.install-out.txt --library=/Library/Frameworks/R.framework/Resources/library --no-vignettes --timings DominoEffect_1.22.0.tar.gz StartedAt: 2024-03-06 12:06:36 -0500 (Wed, 06 Mar 2024) EndedAt: 2024-03-06 12:13:12 -0500 (Wed, 06 Mar 2024) EllapsedTime: 395.8 seconds RetCode: 0 Status: OK CheckDir: DominoEffect.Rcheck Warnings: 0