Package: DominoEffect Version: 1.22.0 Command: rm -rf DominoEffect.buildbin-libdir && mkdir DominoEffect.buildbin-libdir && /Users/biocbuild/BBS/utils/build-universal.sh DominoEffect_1.22.0.tar.gz /Library/Frameworks/R.framework/Resources/bin/R DominoEffect.buildbin-libdir StartedAt: 2024-03-07 08:27:38 -0500 (Thu, 07 Mar 2024) EndedAt: 2024-03-07 08:28:38 -0500 (Thu, 07 Mar 2024) EllapsedTime: 59.6 seconds RetCode: 0 Status: OK PackageFile: DominoEffect_1.22.0.tgz PackageFileSize: 581.9 KiB