Package: DepInfeR Version: 1.6.0 Command: /Library/Frameworks/R.framework/Resources/bin/R CMD build --keep-empty-dirs --no-resave-data DepInfeR StartedAt: 2024-04-16 16:56:46 -0400 (Tue, 16 Apr 2024) EndedAt: 2024-04-16 16:58:01 -0400 (Tue, 16 Apr 2024) EllapsedTime: 75.5 seconds RetCode: 0 Status: OK PackageFile: DepInfeR_1.6.0.tar.gz PackageFileSize: 2.351 MiB