Package: DepInfeR Version: 1.6.0 Command: rm -rf DepInfeR.buildbin-libdir && mkdir DepInfeR.buildbin-libdir && /Users/biocbuild/BBS/utils/build-universal.sh DepInfeR_1.6.0.tar.gz /Library/Frameworks/R.framework/Resources/bin/R DepInfeR.buildbin-libdir StartedAt: 2024-04-18 08:59:25 -0400 (Thu, 18 Apr 2024) EndedAt: 2024-04-18 08:59:36 -0400 (Thu, 18 Apr 2024) EllapsedTime: 11.1 seconds RetCode: 0 Status: OK PackageFile: DepInfeR_1.6.0.tgz PackageFileSize: 2.373 MiB