Package: DelayedArray Version: 0.28.0 Command: /Library/Frameworks/R.framework/Resources/bin/R CMD INSTALL DelayedArray StartedAt: 2024-04-16 10:18:06 -0400 (Tue, 16 Apr 2024) EndedAt: 2024-04-16 10:18:39 -0400 (Tue, 16 Apr 2024) EllapsedTime: 33.2 seconds RetCode: 0 Status: OK