Package: DelayedArray Version: 0.28.0 Command: /Library/Frameworks/R.framework/Resources/bin/R CMD build --keep-empty-dirs --no-resave-data DelayedArray StartedAt: 2024-04-16 16:49:44 -0400 (Tue, 16 Apr 2024) EndedAt: 2024-04-16 16:51:02 -0400 (Tue, 16 Apr 2024) EllapsedTime: 77.7 seconds RetCode: 0 Status: OK PackageFile: DelayedArray_0.28.0.tar.gz PackageFileSize: 787.8 KiB