Package: DegNorm Version: 1.12.0 Command: rm -rf DegNorm.buildbin-libdir && mkdir DegNorm.buildbin-libdir && /Users/biocbuild/BBS/utils/build-universal.sh DegNorm_1.12.0.tar.gz /Library/Frameworks/R.framework/Resources/bin/R DegNorm.buildbin-libdir StartedAt: 2024-04-18 08:57:13 -0400 (Thu, 18 Apr 2024) EndedAt: 2024-04-18 08:58:34 -0400 (Thu, 18 Apr 2024) EllapsedTime: 80.7 seconds RetCode: 0 Status: OK PackageFile: DegNorm_1.12.0.tgz PackageFileSize: 3.242 MiB