Package: DeepPINCS Version: 1.10.0 Command: /Library/Frameworks/R.framework/Resources/bin/R CMD check --install=check:DeepPINCS.install-out.txt --library=/Library/Frameworks/R.framework/Resources/library --no-vignettes --timings DeepPINCS_1.10.0.tar.gz StartedAt: 2024-04-17 11:16:17 -0400 (Wed, 17 Apr 2024) EndedAt: 2024-04-17 11:18:16 -0400 (Wed, 17 Apr 2024) EllapsedTime: 118.8 seconds RetCode: 0 Status: OK CheckDir: DeepPINCS.Rcheck Warnings: 0