Package: DeepPINCS Version: 1.10.0 Command: /Library/Frameworks/R.framework/Resources/bin/R CMD build --keep-empty-dirs --no-resave-data DeepPINCS StartedAt: 2024-04-16 16:44:58 -0400 (Tue, 16 Apr 2024) EndedAt: 2024-04-16 16:45:35 -0400 (Tue, 16 Apr 2024) EllapsedTime: 36.4 seconds RetCode: 0 Status: OK PackageFile: DeepPINCS_1.10.0.tar.gz PackageFileSize: 2.438 MiB