Package: DeMixT Version: 1.18.0 Command: /Library/Frameworks/R.framework/Resources/bin/R CMD build --keep-empty-dirs --no-resave-data DeMixT StartedAt: 2024-04-16 16:54:14 -0400 (Tue, 16 Apr 2024) EndedAt: 2024-04-16 16:55:47 -0400 (Tue, 16 Apr 2024) EllapsedTime: 92.9 seconds RetCode: 0 Status: OK PackageFile: DeMixT_1.18.0.tar.gz PackageFileSize: 3.595 MiB