Package: DTA Version: 2.48.0 Command: /Library/Frameworks/R.framework/Resources/bin/R CMD check --install=check:DTA.install-out.txt --library=/Library/Frameworks/R.framework/Resources/library --no-vignettes --timings DTA_2.48.0.tar.gz StartedAt: 2024-04-17 12:28:38 -0400 (Wed, 17 Apr 2024) EndedAt: 2024-04-17 12:32:23 -0400 (Wed, 17 Apr 2024) EllapsedTime: 225.0 seconds RetCode: 0 Status: OK CheckDir: DTA.Rcheck Warnings: 0