Package: DTA Version: 2.48.0 Maintainer: Bjoern Schwalb MaintainerEmail: schwalb at lmb.uni-muenchen.de git_url: https://git.bioconductor.org/packages/DTA git_branch: RELEASE_3_18 git_last_commit: 5830440 git_last_commit_date: 2023-10-24 09:47:55 -0400 (Tue, 24 Oct 2023)