Package: DOSE Version: 3.28.2 Command: /Library/Frameworks/R.framework/Resources/bin/R CMD check --install=check:DOSE.install-out.txt --library=/Library/Frameworks/R.framework/Resources/library --no-vignettes --timings DOSE_3.28.2.tar.gz StartedAt: 2024-04-17 12:14:40 -0400 (Wed, 17 Apr 2024) EndedAt: 2024-04-17 12:18:35 -0400 (Wed, 17 Apr 2024) EllapsedTime: 235.4 seconds RetCode: 0 Status: OK CheckDir: DOSE.Rcheck Warnings: 0