Package: DOSE Version: 3.28.2 Command: /Library/Frameworks/R.framework/Resources/bin/R CMD build --keep-empty-dirs --no-resave-data DOSE StartedAt: 2024-04-16 17:21:27 -0400 (Tue, 16 Apr 2024) EndedAt: 2024-04-16 17:22:14 -0400 (Tue, 16 Apr 2024) EllapsedTime: 47.3 seconds RetCode: 0 Status: OK PackageFile: DOSE_3.28.2.tar.gz PackageFileSize: 6.492 MiB