Package: DNAshapeR Version: 1.30.0 Command: /Library/Frameworks/R.framework/Resources/bin/R CMD INSTALL DNAshapeR StartedAt: 2024-04-16 10:26:45 -0400 (Tue, 16 Apr 2024) EndedAt: 2024-04-16 10:27:29 -0400 (Tue, 16 Apr 2024) EllapsedTime: 44.2 seconds RetCode: 0 Status: OK