Package: DNAshapeR Version: 1.30.0 Command: rm -rf DNAshapeR.buildbin-libdir && mkdir DNAshapeR.buildbin-libdir && /Users/biocbuild/BBS/utils/build-universal.sh DNAshapeR_1.30.0.tar.gz /Library/Frameworks/R.framework/Resources/bin/R DNAshapeR.buildbin-libdir StartedAt: 2024-04-18 09:04:15 -0400 (Thu, 18 Apr 2024) EndedAt: 2024-04-18 09:05:14 -0400 (Thu, 18 Apr 2024) EllapsedTime: 59.1 seconds RetCode: 0 Status: OK PackageFile: DNAshapeR_1.30.0.tgz PackageFileSize: 1.294 MiB