Package: DMCHMM Version: 1.24.0 Command: /Library/Frameworks/R.framework/Resources/bin/R CMD INSTALL DMCHMM StartedAt: 2024-04-16 12:04:22 -0400 (Tue, 16 Apr 2024) EndedAt: 2024-04-16 12:05:05 -0400 (Tue, 16 Apr 2024) EllapsedTime: 42.7 seconds RetCode: 0 Status: OK