Package: DMCHMM Version: 1.24.0 Command: /Library/Frameworks/R.framework/Resources/bin/R CMD build --keep-empty-dirs --no-resave-data DMCHMM StartedAt: 2024-04-16 17:15:06 -0400 (Tue, 16 Apr 2024) EndedAt: 2024-04-16 17:16:36 -0400 (Tue, 16 Apr 2024) EllapsedTime: 90.1 seconds RetCode: 0 Status: OK PackageFile: DMCHMM_1.24.0.tar.gz PackageFileSize: 743.6 KiB