Package: DIAlignR Version: 2.10.0 Command: /Library/Frameworks/R.framework/Resources/bin/R CMD INSTALL DIAlignR StartedAt: 2024-04-16 11:01:04 -0400 (Tue, 16 Apr 2024) EndedAt: 2024-04-16 11:02:11 -0400 (Tue, 16 Apr 2024) EllapsedTime: 67.1 seconds RetCode: 0 Status: OK