Package: DIAlignR Version: 2.10.0 Command: rm -rf DIAlignR.buildbin-libdir && mkdir DIAlignR.buildbin-libdir && /Users/biocbuild/BBS/utils/build-universal.sh DIAlignR_2.10.0.tar.gz /Library/Frameworks/R.framework/Resources/bin/R DIAlignR.buildbin-libdir StartedAt: 2024-04-18 09:01:20 -0400 (Thu, 18 Apr 2024) EndedAt: 2024-04-18 09:02:47 -0400 (Thu, 18 Apr 2024) EllapsedTime: 87.1 seconds RetCode: 0 Status: OK PackageFile: DIAlignR_2.10.0.tgz PackageFileSize: 4.776 MiB