Package: DFP Version: 1.60.0 Maintainer: Rodrigo Alvarez-Glez MaintainerEmail: rodrigo.djv at uvigo.es git_url: https://git.bioconductor.org/packages/DFP git_branch: RELEASE_3_18 git_last_commit: 850ddad git_last_commit_date: 2023-10-24 09:40:25 -0400 (Tue, 24 Oct 2023)