Package: DEqMS Version: 1.20.0 Command: /Library/Frameworks/R.framework/Resources/bin/R CMD check --install=check:DEqMS.install-out.txt --library=/Library/Frameworks/R.framework/Resources/library --no-vignettes --timings DEqMS_1.20.0.tar.gz StartedAt: 2024-04-17 11:41:43 -0400 (Wed, 17 Apr 2024) EndedAt: 2024-04-17 11:45:08 -0400 (Wed, 17 Apr 2024) EllapsedTime: 205.4 seconds RetCode: 0 Status: OK CheckDir: DEqMS.Rcheck Warnings: 0