Package: DEqMS Version: 1.20.0 Command: /Library/Frameworks/R.framework/Resources/bin/R CMD build --keep-empty-dirs --no-resave-data DEqMS StartedAt: 2024-04-16 16:57:04 -0400 (Tue, 16 Apr 2024) EndedAt: 2024-04-16 16:58:30 -0400 (Tue, 16 Apr 2024) EllapsedTime: 85.9 seconds RetCode: 0 Status: OK PackageFile: DEqMS_1.20.0.tar.gz PackageFileSize: 2.304 MiB