Package: DEXSeq Version: 1.48.0 Command: /Library/Frameworks/R.framework/Resources/bin/R CMD INSTALL DEXSeq StartedAt: 2024-04-16 12:16:06 -0400 (Tue, 16 Apr 2024) EndedAt: 2024-04-16 12:16:50 -0400 (Tue, 16 Apr 2024) EllapsedTime: 43.7 seconds RetCode: 0 Status: OK