Package: DESeq2 Version: 1.42.1 Command: /Library/Frameworks/R.framework/Resources/bin/R CMD build --keep-empty-dirs --no-resave-data DESeq2 StartedAt: 2024-04-16 16:58:30 -0400 (Tue, 16 Apr 2024) EndedAt: 2024-04-16 17:00:40 -0400 (Tue, 16 Apr 2024) EllapsedTime: 130.5 seconds RetCode: 0 Status: OK PackageFile: DESeq2_1.42.1.tar.gz PackageFileSize: 3.3 MiB