Package: DESeq2 Version: 1.42.1 Maintainer: Michael Love MaintainerEmail: michaelisaiahlove at gmail.com git_url: https://git.bioconductor.org/packages/DESeq2 git_branch: RELEASE_3_18 git_last_commit: 1c1c928 git_last_commit_date: 2024-03-06 10:49:39 -0400 (Wed, 06 Mar 2024)