Package: DELocal Version: 1.2.1 Command: /Library/Frameworks/R.framework/Resources/bin/R CMD INSTALL DELocal StartedAt: 2024-04-16 10:51:21 -0400 (Tue, 16 Apr 2024) EndedAt: 2024-04-16 10:51:51 -0400 (Tue, 16 Apr 2024) EllapsedTime: 30.4 seconds RetCode: 0 Status: OK