Package: DELocal Version: 1.2.1 Command: rm -rf DELocal.buildbin-libdir && mkdir DELocal.buildbin-libdir && /Users/biocbuild/BBS/utils/build-universal.sh DELocal_1.2.1.tar.gz /Library/Frameworks/R.framework/Resources/bin/R DELocal.buildbin-libdir StartedAt: 2024-04-18 08:58:34 -0400 (Thu, 18 Apr 2024) EndedAt: 2024-04-18 08:59:12 -0400 (Thu, 18 Apr 2024) EllapsedTime: 38.4 seconds RetCode: 0 Status: OK PackageFile: DELocal_1.2.1.tgz PackageFileSize: 2.374 MiB