Package: DECIPHER Version: 2.30.0 Command: rm -rf DECIPHER.buildbin-libdir && mkdir DECIPHER.buildbin-libdir && /Users/biocbuild/BBS/utils/build-universal.sh DECIPHER_2.30.0.tar.gz /Library/Frameworks/R.framework/Resources/bin/R DECIPHER.buildbin-libdir StartedAt: 2024-04-18 08:56:43 -0400 (Thu, 18 Apr 2024) EndedAt: 2024-04-18 08:58:01 -0400 (Thu, 18 Apr 2024) EllapsedTime: 78.0 seconds RetCode: 0 Status: OK PackageFile: DECIPHER_2.30.0.tgz PackageFileSize: 16.01 MiB