Package: DART Version: 1.50.0 Command: /Library/Frameworks/R.framework/Resources/bin/R CMD build --keep-empty-dirs --no-resave-data DART StartedAt: 2024-04-16 16:32:47 -0400 (Tue, 16 Apr 2024) EndedAt: 2024-04-16 16:33:17 -0400 (Tue, 16 Apr 2024) EllapsedTime: 29.9 seconds RetCode: 0 Status: OK PackageFile: DART_1.50.0.tar.gz PackageFileSize: 1.987 MiB